BEGIN:VCALENDAR
VERSION:2.0
PRODID:-//Monona Grove Nursery School - ECPv5.15.0//NONSGML v1.0//EN
CALSCALE:GREGORIAN
METHOD:PUBLISH
X-WR-CALNAME:Monona Grove Nursery School
X-ORIGINAL-URL:https://mgns.org
X-WR-CALDESC:Events for Monona Grove Nursery School
BEGIN:VTIMEZONE
TZID:UTC
BEGIN:STANDARD
TZOFFSETFROM:+0000
TZOFFSETTO:+0000
TZNAME:UTC
DTSTART:20210101T000000
END:STANDARD
END:VTIMEZONE
BEGIN:VEVENT
DTSTART;TZID=UTC:20211020T170000
DTEND;TZID=UTC:20211020T210000
DTSTAMP:20260422T034011
CREATED:20210923T180112Z
LAST-MODIFIED:20210923T180358Z
UID:3885-1634749200-1634763600@mgns.org
SUMMARY:Chipotle Dine Out Night!
DESCRIPTION:Order Chipotle online on WEDNESDAY\, October 20 from 5-9 p.m. and enter the code: Q4DXFG8 at checkout. Our school will earn 33% of all sales from our event! Spread the word! NOTE: this only applies to the E. Washington location at 4628 E. Washington Ave. Orders are submitted online (through https://chipotle.com or the Chipotle app) and picked up at the restaurant.
URL:https://mgns.org/event/chipotle-dine-out-night/
END:VEVENT
END:VCALENDAR