BEGIN:VCALENDAR
VERSION:2.0
PRODID:-//Monona Grove Nursery School - ECPv5.15.0//NONSGML v1.0//EN
CALSCALE:GREGORIAN
METHOD:PUBLISH
X-WR-CALNAME:Monona Grove Nursery School
X-ORIGINAL-URL:https://mgns.org
X-WR-CALDESC:Events for Monona Grove Nursery School
BEGIN:VTIMEZONE
TZID:UTC
BEGIN:STANDARD
TZOFFSETFROM:+0000
TZOFFSETTO:+0000
TZNAME:UTC
DTSTART:20210101T000000
END:STANDARD
END:VTIMEZONE
BEGIN:VEVENT
DTSTART;TZID=UTC:20211002T100000
DTEND;TZID=UTC:20211002T170000
DTSTAMP:20260420T203408
CREATED:20210923T182015Z
LAST-MODIFIED:20210923T182034Z
UID:3901-1633168800-1633194000@mgns.org
SUMMARY:Meet Greet and Showcase
DESCRIPTION:Meet Greet and Showcase: Saturday\, October 2!\nStarfish and Dolphins 10:00am. Penguins and Sea Otters 11:30am.
URL:https://mgns.org/event/meet-greet-and-showcase/
END:VEVENT
END:VCALENDAR