BEGIN:VCALENDAR
VERSION:2.0
PRODID:-//Monona Grove Nursery School - ECPv5.15.0//NONSGML v1.0//EN
CALSCALE:GREGORIAN
METHOD:PUBLISH
X-WR-CALNAME:Monona Grove Nursery School
X-ORIGINAL-URL:https://mgns.org
X-WR-CALDESC:Events for Monona Grove Nursery School
BEGIN:VTIMEZONE
TZID:UTC
BEGIN:STANDARD
TZOFFSETFROM:+0000
TZOFFSETTO:+0000
TZNAME:UTC
DTSTART:20210101T000000
END:STANDARD
END:VTIMEZONE
BEGIN:VEVENT
DTSTART;TZID=UTC:20211008T170000
DTEND;TZID=UTC:20211008T190000
DTSTAMP:20260421T034438
CREATED:20210705T183026Z
LAST-MODIFIED:20210705T183330Z
UID:3765-1633712400-1633719600@mgns.org
SUMMARY:Meet\, Greet & Eat
DESCRIPTION:Meet\, Greet & Eat (for current MGNS families to meet other MGNS families)\n5:00 to 7:00 pm (tentative)
URL:https://mgns.org/event/meet-greet-eat/
END:VEVENT
END:VCALENDAR